BEGIN:VCALENDAR
VERSION:2.0
PRODID:-//KultRaum. - ECPv6.15.12.2//NONSGML v1.0//EN
CALSCALE:GREGORIAN
METHOD:PUBLISH
X-ORIGINAL-URL:https://www.kult-raum.de
X-WR-CALDESC:Veranstaltungen für KultRaum.
REFRESH-INTERVAL;VALUE=DURATION:PT1H
X-Robots-Tag:noindex
X-PUBLISHED-TTL:PT1H
BEGIN:VTIMEZONE
TZID:Europe/Berlin
BEGIN:DAYLIGHT
TZOFFSETFROM:+0100
TZOFFSETTO:+0200
TZNAME:CEST
DTSTART:20250330T010000
END:DAYLIGHT
BEGIN:STANDARD
TZOFFSETFROM:+0200
TZOFFSETTO:+0100
TZNAME:CET
DTSTART:20251026T010000
END:STANDARD
BEGIN:DAYLIGHT
TZOFFSETFROM:+0100
TZOFFSETTO:+0200
TZNAME:CEST
DTSTART:20260329T010000
END:DAYLIGHT
BEGIN:STANDARD
TZOFFSETFROM:+0200
TZOFFSETTO:+0100
TZNAME:CET
DTSTART:20261025T010000
END:STANDARD
BEGIN:DAYLIGHT
TZOFFSETFROM:+0100
TZOFFSETTO:+0200
TZNAME:CEST
DTSTART:20270328T010000
END:DAYLIGHT
BEGIN:STANDARD
TZOFFSETFROM:+0200
TZOFFSETTO:+0100
TZNAME:CET
DTSTART:20271031T010000
END:STANDARD
END:VTIMEZONE
BEGIN:VEVENT
DTSTART;TZID=Europe/Berlin:20260508T200000
DTEND;TZID=Europe/Berlin:20260508T200000
DTSTAMP:20260422T135601
CREATED:20260123T150813Z
LAST-MODIFIED:20260123T150920Z
UID:4090-1778270400-1778270400@www.kult-raum.de
SUMMARY:Karina Syndicus und Michael Krebs — Schmuckeremiten
DESCRIPTION:Karina Syndicus und Michael Krebs – zwei Bühnen-Alphas\, beide virtuos\, wuchtig und extrem witzig. Beide gewohnt\, die Bühne alleine zu füllen. Die eine spielt Körper und der andere Klavier. Jetzt machen sie ein gemeinsames Programm. \nSyndicus und Krebs sind eine gewagte Kombination. Und so stellt ihr erstes Duoprogramm eine der großen Fragen unserer Zeit: Wie bringt man zusammen\, was unvereinbar scheint? Geht das überhaupt noch\, in unseren Leben zwischen Turbokapitalismus und Filterblasen\, in der wir alle nahezu identisch konsumieren und kommunizieren\, trotzdem kaum noch Gemeinsamkeiten finden? \nWie gut das geht und wie lustig das sein kann\, erfährt man an diesem Abend. Und genau deshalb braucht es dieses Programm dringend. \nKarina Syndicus und Michael Krebs werden in diesem Programm zur Hochdruck-Supernova und suhlen sich in der heiteren Großwetterlage der ihnen täglich begegnenden Absurditäten. Eltern\, die emotional überfordert sind\, wenn ihr Kind ohne Airtag auf den Spielplatz möchte. Politiker\, die Demokratie als Lieferservice preisen\, obwohl sie das größte DIY-Projekt aller Zeiten ist. Ute\, die im ICE ab Osnabrück schon mal im Flur steht\, weil sie in Hannover aussteigen will. Noni\, die gegen die afd notfalls auch aus dem Untergrund kämpfen will\, falls es da WLAN gibt. Die Sehnsucht nach dem guten Diktator. Der schlechten Pointe. Dem mittelmäßigen Leben. \nEin Abend voll Körper\, Musik\, Wort\, kluger Pointen und überraschender Lösungen. Denn die einzige Option ist die Eskalation.
URL:https://www.kult-raum.de/event/karina-syndicus-und-michael-krebs-schmuckeremiten/
LOCATION:KultRaum\, Zehlendorfer Damm 200\, Kleinmachnow\, 14532
CATEGORIES:Allgemein,Kabarett
ATTACH;FMTTYPE=image/jpeg:https://www.kult-raum.de/wp-content/uploads/2026/01/Schmuckeremiten1.jpg
END:VEVENT
BEGIN:VEVENT
DTSTART;TZID=Europe/Berlin:20260522T200000
DTEND;TZID=Europe/Berlin:20260522T200000
DTSTAMP:20260422T135602
CREATED:20260407T165158Z
LAST-MODIFIED:20260407T165314Z
UID:4100-1779480000-1779480000@www.kult-raum.de
SUMMARY:Alec & Ro Gebhardt — Wenn der Vater mit dem Sohne — feat. Denis Stilke
DESCRIPTION:Denis Silke / drums\nAlec Gebhardt / bass\nRo Gebhardt / git\, arr\, comp\n\n„…..outstanding ….“\n\nDer Vollblut-Gitarrist-Komponist-Arrangeur Ro Gebhardt steht für Guitar-Jazz-Latin-Blues und gilt als eine der deutschen Galionsfiguren seiner Zunft. \n \nRo Gebhardt hat mit seiner aktuellen CD die Preise „bester R’n’B/Soul-Song und „bester Jazz-Rock-Song“ der Deutschen Pop-Stiftung gewonnen und hat die Songs selbstverständlich im Gepäck. Für sein Buch „Jazz-Alphabet“ hat er den „Deutschen Musikeditionspreis“ erhalten. Station seiner Tourneen weltweit war unter anderem der legendäre Jazzclub „Blue Note“ in New York. \n\nZusammen mit seinem Sohn\, dem Nachwuchs-Bassisten Alec Gebhardt\, bildet Ro ein kongeniales Duo. Als bisher jüngster Träger des Kulturpreis des Kulturverein Neunkirchen 2022 und Student der saarländischen Hochschule für Musik hat der gerade erst 18-Jährige schon mit diversen Grössen der Szene gespielt wie z.B. Christian Pabst\, Jeff Herr\, Jan von Klewitz\, Wolfgang Roggenkamp\, Gregor Hilden\, Johannes Müller und vielen anderen mehr.\n\nDer dritte im Bunde wird an diesem Abend Denis Silke sein. Er ist seit über 30 Jahren eine Koryphäe in der Berliner Jazzwelt. Er studierte in Berlin und am renommierten Berkley College of Music in Boston\, USA. Besonders geschätzt wird seine musikalische Vielseitigkeit\, die auf über 30 Produktionen sehr unterschiedlicher Stilistik festgehalten ist\, darunter Jazz\, Metal\, Pop\, Weltmusik und mehr. Neben seiner Tätigkeit als Musiker ist er auch Komponist\, Lehrer und Autor von Musikliteratur.\n\nDie Gebhardts feat. Stilke nehmen dabei Musikliteratur aus Jazz\, Pop\, Blues\, Latin und Klassik aus verschiedenen Jahrhunderten unter die Lupe und begeistern dabei mit ganz viel Spielfreude und atemberaubendem\, improvisatorischen Können. Natürlich dürfen auch ein paar Songs aus eigener Feder von beim SR\, BR und Deutschlandfunk produzierten CDs nicht fehlen. \n\n\nDie Presse kennt auf jeden Fall nur Superlative:\n„traumhaft virtuos“ Gitarre&Bass\, „Meister ihres Fachs“ Jazzpodium\, „in der 1. Liga europäischer Jazzgitarren-Tradition“ Jazzthing „Ausnahmemusiker in hinreißendem Dialog“ Frankfurter Allgemeine\,  „Ausufernde Spielfreude und grossartige Dynamik“ SZ\, „erste Liga europäischer Jazz-Musiker“ Keyboards und und und.\n\nZu hören und zu sehen gibt es hier oder hier oder hier das ein oder andere.
URL:https://www.kult-raum.de/event/alec-ro-gebhardt-wenn-der-vater-mit-dem-sohne-feat-denis-stilke/
LOCATION:KultRaum\, Zehlendorfer Damm 200\, Kleinmachnow\, 14532
CATEGORIES:Allgemein,Jazz,Konzert
ATTACH;FMTTYPE=image/jpeg:https://www.kult-raum.de/wp-content/uploads/2026/04/Gebhardt1.jpg
END:VEVENT
END:VCALENDAR