BEGIN:VCALENDAR
VERSION:2.0
PRODID:-//KultRaum. - ECPv6.15.12.2//NONSGML v1.0//EN
CALSCALE:GREGORIAN
METHOD:PUBLISH
X-ORIGINAL-URL:https://www.kult-raum.de
X-WR-CALDESC:Veranstaltungen für KultRaum.
REFRESH-INTERVAL;VALUE=DURATION:PT1H
X-Robots-Tag:noindex
X-PUBLISHED-TTL:PT1H
BEGIN:VTIMEZONE
TZID:Europe/Berlin
BEGIN:DAYLIGHT
TZOFFSETFROM:+0100
TZOFFSETTO:+0200
TZNAME:CEST
DTSTART:20250330T010000
END:DAYLIGHT
BEGIN:STANDARD
TZOFFSETFROM:+0200
TZOFFSETTO:+0100
TZNAME:CET
DTSTART:20251026T010000
END:STANDARD
BEGIN:DAYLIGHT
TZOFFSETFROM:+0100
TZOFFSETTO:+0200
TZNAME:CEST
DTSTART:20260329T010000
END:DAYLIGHT
BEGIN:STANDARD
TZOFFSETFROM:+0200
TZOFFSETTO:+0100
TZNAME:CET
DTSTART:20261025T010000
END:STANDARD
BEGIN:DAYLIGHT
TZOFFSETFROM:+0100
TZOFFSETTO:+0200
TZNAME:CEST
DTSTART:20270328T010000
END:DAYLIGHT
BEGIN:STANDARD
TZOFFSETFROM:+0200
TZOFFSETTO:+0100
TZNAME:CET
DTSTART:20271031T010000
END:STANDARD
END:VTIMEZONE
BEGIN:VEVENT
DTSTART;TZID=Europe/Berlin:20260213T200000
DTEND;TZID=Europe/Berlin:20260213T200000
DTSTAMP:20260422T152909
CREATED:20251220T174423Z
LAST-MODIFIED:20251220T175155Z
UID:4042-1771012800-1771012800@www.kult-raum.de
SUMMARY:Franziska Günther — Nicht ärgern\, nur wundern
DESCRIPTION:Franziska Günthers frischer Singer/Songwriter-Folk mit prägnanten Akustikgitarren-Grooves und aufrichtigem Gesang ist ein angenehmer Gegenentwurf zur allgemeinen Meckerkoppigkeit. Die norddeutsche Troubadourin erzählt auch zwischen ihren abwechslungsreichen – zumeist deutschen – Songs menschliche Geschichten und\nreflektiert mit charmantem Humor und kluger Beobachtungsgabe über aktuelle Zeiten. Im Kopfkino der Zuhörenden entstehen dabei ganz eigene Bilder und Assoziationen. Im KultRaum spielt sie ihr aktuelles Repertoire und gibt Kostproben aus dem kommenden vierten Solo-Album. \nFranziska Günther stammt aus Waren (Müritz)\, wohnt in Berlin und spielt seit ihrem fünfzehnten Lebensjahr solo und mit verschiedenen Künstlerinnen und Künstlern in Deutschland\, Nordeuropa und Island. Sie hat einige Zeit in Kopenhagen gelebt\, den Popkurs in Hamburg absolviert\, einen Master in Musikwissenschaft und ist als Produzentin und Songschreiberin für andere tätig. Ihre Alben „Besser wenn der Kopf nicht hängt“ und das aktuelle „Sobald die Sonne scheint“ gelangten auf die Longlist des Preises der deutschen Schallplattenkritik und ihre Songs rangierten lange auf der Liederbestenliste.
URL:https://www.kult-raum.de/event/franziska-guenther-nicht-aergern-nur-wundern/
LOCATION:KultRaum\, Zehlendorfer Damm 200\, Kleinmachnow\, 14532
CATEGORIES:Allgemein,Chanson
ATTACH;FMTTYPE=image/jpeg:https://www.kult-raum.de/wp-content/uploads/2025/12/FranziskaGuenther5.jpg
END:VEVENT
BEGIN:VEVENT
DTSTART;TZID=Europe/Berlin:20260220T200000
DTEND;TZID=Europe/Berlin:20260220T220000
DTSTAMP:20260422T152909
CREATED:20251007T210828Z
LAST-MODIFIED:20260215T210706Z
UID:3992-1771617600-1771624800@www.kult-raum.de
SUMMARY:Reiner Kröhnert — Er. Jetzt wird´s merzwürdig!
DESCRIPTION:Stephen KINGs ES ist vielleicht besiegt\, aber keine Sorge: Der Nachfolger ist schon da und trägt den klangvollen Namen Friedrich Merz. Wer hätte gedacht\, dass das wahre „Gruselwesen“ unserer Zeit ein 1\,98 Meter großer Teutone ist. \nReiner Kröhnert\, der Meister der bissigen Parodie\, bringt uns genau diesen Friedrich Merz auf die Bühne. Mit seiner ganz eigenen „merzwürdigen“ Art führt er uns vor Augen\, dass das politische Kabarett doch noch nicht tot ist. Egal ob er Donald Trump\, Angela Merkel\, Robert Habeck oder sogar die Tennislegende Boris Becker karikiert – bei Kröhnert bleibt kein Promi verschont. Es ist diese subtile Grausamkeit\, bei der das Lachen schon fast weh tut\, aber eben genau deshalb so richtig sitzt. \nUnd jetzt die Schocknachricht: In seinem neuen Programm „Reiner KRÖHNERTs ER – Jetzt wird´s merzwürdig“ geht es nicht nur um ein bisschen Satire. Nein\, Kröhnert lässt es krachen\, dass selbst die stabilsten Regierungskonstrukte ins Wanken geraten. \nKröhnerts 1\,98 Meter und Merz‘ 1\,98 Meter – da bleibt eigentlich nur eine Frage offen: Hat Merz sich den Größenwahn vielleicht abgeguckt? Man könnte glatt meinen\, es handle sich um den doppelten Friedrich\, so perfekt imitiert Kröhnert das aalglatte Politsprech unseres aller „Lieblingskanzlers“. \nVorhang auf\, für Reiner Kröhnerts pikantes Prominenten-Panoptikum! ER weiß: „Lachen ist der Hoffnung letzte Waffe“.
URL:https://www.kult-raum.de/event/reiner-kroehnert-er-jetzt-wirds-merzwuerdig/
LOCATION:KultRaum\, Zehlendorfer Damm 200\, Kleinmachnow\, 14532
CATEGORIES:Kabarett
ATTACH;FMTTYPE=image/jpeg:https://www.kult-raum.de/wp-content/uploads/2025/10/Kroehnert1.jpg
END:VEVENT
END:VCALENDAR