BEGIN:VCALENDAR
VERSION:2.0
PRODID:-//KultRaum. - ECPv6.15.12.2//NONSGML v1.0//EN
CALSCALE:GREGORIAN
METHOD:PUBLISH
X-ORIGINAL-URL:https://www.kult-raum.de
X-WR-CALDESC:Veranstaltungen für KultRaum.
REFRESH-INTERVAL;VALUE=DURATION:PT1H
X-Robots-Tag:noindex
X-PUBLISHED-TTL:PT1H
BEGIN:VTIMEZONE
TZID:Europe/Berlin
BEGIN:DAYLIGHT
TZOFFSETFROM:+0100
TZOFFSETTO:+0200
TZNAME:CEST
DTSTART:20250330T010000
END:DAYLIGHT
BEGIN:STANDARD
TZOFFSETFROM:+0200
TZOFFSETTO:+0100
TZNAME:CET
DTSTART:20251026T010000
END:STANDARD
BEGIN:DAYLIGHT
TZOFFSETFROM:+0100
TZOFFSETTO:+0200
TZNAME:CEST
DTSTART:20260329T010000
END:DAYLIGHT
BEGIN:STANDARD
TZOFFSETFROM:+0200
TZOFFSETTO:+0100
TZNAME:CET
DTSTART:20261025T010000
END:STANDARD
BEGIN:DAYLIGHT
TZOFFSETFROM:+0100
TZOFFSETTO:+0200
TZNAME:CEST
DTSTART:20270328T010000
END:DAYLIGHT
BEGIN:STANDARD
TZOFFSETFROM:+0200
TZOFFSETTO:+0100
TZNAME:CET
DTSTART:20271031T010000
END:STANDARD
END:VTIMEZONE
BEGIN:VEVENT
DTSTART;TZID=Europe/Berlin:20260109T200000
DTEND;TZID=Europe/Berlin:20260109T200000
DTSTAMP:20260422T165620
CREATED:20251005T203130Z
LAST-MODIFIED:20251007T204748Z
UID:3985-1767988800-1767988800@www.kult-raum.de
SUMMARY:Bene Aperdannier Trio
DESCRIPTION:Als Pianist und Keyboarder hat Bene Aperdannier die unterschiedlichsten Stimmen auf seine ganz eigene Art begleitet und wurde so an der Seite von Sängerinnen und Sängern vielen Menschen bekannt. Tango und World Jazz mit der argentinischen Sängerin Lily Dahab\, Soul mit Joy Denalane und Jocelyn B. Smith\, Jazz mit Michael Schiefel und Lisa Bassenge\, Hip-Hop mit Freundeskreis und den Fantastischen Vier oder auch bei The Voice of Germany seit Beginn mit so unterschiedlichen Künstlern wie Ed Sheeran\, James Blunt\nund Jason Derulo. Als Pianist spielte er Klavier für den Filmkomponisten Howard Shore („Herr der Ringe\, Hobbit“…) für den Oscar nominierten Film „Pieces of a woman“ ein. \nBene Aperdannier ist vielseitig\, sensibel\, erkennbar und begeistert durch seine Art zu spielen. „Ich habe sehr viel mit Sängerinnen und Sängern gearbeitet\, auch für diese komponiert und arrangiert\, zu meiner künstlerischen Identität gehört aber unbedingt das instrumentale Trio Format.“ \nBewusst wollte Bene nicht ein weiteres Piano Trio mit Bass und Drums\, sondern vielmehr „mit dem Klangkosmos von Christian Kögel (Gitarre\, Oud\, Dobro; Zusammenarbeit u.a. mit Jerry Granelli\, Jazzanova\, Flexkögel\, German All Stars) und den farbenfrohen Grooves von Schlagzeuger Bernd Oezsevim (u.a. Zodiak Trio\, Gunter Hampel\, Angelika Niescier\, Dave Douglas) jonglieren.“ \nEr hat sich Zeit genommen\, sich in ein einsames Haus in der Uckermark gesetzt\, viel geschrieben und die Ideen in Form gebracht. „Da war so viel Musik in mir\, das musste jetzt endlich mal raus…“ Jetzt ist es soweit. Das erste Konzert in Berlin im April 25 war sofort ausverkauft. Jetzt die Tour! So als wenn Miles Davis und Fellinis Komponist Nino Rota sich bei Debussy auf einen Rotwein treffen um dann gemeinsam mit Nils Frahm und Prince um die Häuser zu ziehen… \nUnd diese Tour startet bei uns in Kleinmachnow!!! \nDie Presse feiert übrigens die neue Formation:\n„Mit dem Bene Aperdannier Trio zeichnet sich eine neue Supergroup auf dem Berliner Jazzparkett ab. Tastenzauberer Aperdannier bricht in ein Reich der puren Klangmagie auf. Er hat das Zeug mit seiner Musik ganz weit vorne mitzuspielen in Deutschland.“ (Wolf Kampmann – jazzthing\, Januar 2025) \nSie wollen mal reinhören? Dann klicken Sie doch einfach hier. \n  \nDas Foto ist übrigens von Dovile Sermokas.
URL:https://www.kult-raum.de/event/bene-aperdannier-trio/
LOCATION:KultRaum\, Zehlendorfer Damm 200\, Kleinmachnow\, 14532
CATEGORIES:Allgemein,Jazz,Konzert
ATTACH;FMTTYPE=image/jpeg:https://www.kult-raum.de/wp-content/uploads/2025/10/BeneAperdannierTrio1.jpg
END:VEVENT
BEGIN:VEVENT
DTSTART;TZID=Europe/Berlin:20260114T190000
DTEND;TZID=Europe/Berlin:20260114T190000
DTSTAMP:20260422T165620
CREATED:20240227T113846Z
LAST-MODIFIED:20260105T223539Z
UID:3646-1768417200-1768417200@www.kult-raum.de
SUMMARY:"Chanson International" | Berlin - Paris - New York
DESCRIPTION:Von den Boulevards in Paris bis zu den Lichtern New Yorks… direkt nach Kleinmachnow in den KultRaum: Die großartigen Dozentinnen des Fachbereichs Gesang stehen selbst auf der Bühne und laden zu einem Abend ein\, der musikalische Welten miteinander verbindet.\nMit beeindruckender stimmlicher Vielfalt und künstlerischer Tiefe interpretieren sie Chansons\, Jazz-Klassiker und weltbekannte Songs von Cole Porter\, Charles Trenet\, Édith Piaf\, Zarah Leander\, George Gershwin\, Anna Depenbusch\, Tobias Morgenstern\, Hilde Knef\, Friedrich Holländer u. a. \nEin Abend voller künstlerischer Exzellenz! \nEs singen Anna Borsdorf\, Christiane Heinke\, Natascha Roth\, Jule Stefan\, Silvana Uhlrich-Knoll\, Corie Townsend.\nGetragen und inspiriert werden sie dabei von einer erstklassigen Begleitband\, bestehend aus Sebastian Weiss – Klavier\, Manuel Zacek – Bass\, Bernd Oezsevim – Drums\nModeration: Felicitas von Berg \nDer Eintritt ist frei. Wir freuen uns über Spenden. \nIn Kooperation mit der Kreismusikschule Potsdam-Mittelmark.
URL:https://www.kult-raum.de/event/la-chanson/
LOCATION:KultRaum\, Zehlendorfer Damm 200\, Kleinmachnow\, 14532
ATTACH;FMTTYPE=image/png:https://www.kult-raum.de/wp-content/uploads/2024/02/Chansoanbend.png
END:VEVENT
BEGIN:VEVENT
DTSTART;TZID=Europe/Berlin:20260117T190000
DTEND;TZID=Europe/Berlin:20260117T190000
DTSTAMP:20260422T165620
CREATED:20251209T104928Z
LAST-MODIFIED:20260108T114629Z
UID:4028-1768676400-1768676400@www.kult-raum.de
SUMMARY:Jerusalem/AlQuds – einer vertrackten Situation auf der Spur
DESCRIPTION:Einer jungen Kanadierin jüdischen Glaubens wird durch ein Gerichtsurteil das Haus ihrer Großmutter in Ost-Jerusalem zugesprochen. Nun ist dieses Haus aber seit Jahrzehnten von einer muslimischen Familie bewohnt.\nDer Konflikt zwischen Delphine und Shahid\, die sich am Tag der Haus- übergabe zum ersten Mal begegnen\, ist unausweichlich. Und unversehens mischen sich auch noch die früheren Generationen ein… \nDas Theaterstück beschreibt aus sehr persönlichen Perspektiven sowohl die jüdische als auch die muslimische Perspektive in Ost-Jerusalem. \nTheaterstück von Ismaël Saidi\nÜbersetzung und Regie: Sabine Wiedemann\nMit: Sharon Kotkovsky (Delphine/Ruth)\, Jalal Mando (Shahid/ Abu Qasim) \nDer Verein ESCALA e.V. – Kunst und Kultur im interkulturellen Kontext – hat als Ziel die Förderung der Toleranz und des\nVölkerverständigungsgedankens. Kulturelle Aktionen sind die Methode. Er wurde im Mai 2022 in Potsdam gegründet.\nDie Initiatorinnen des Vereins arbeiten seit 2018 erfolgreich zusammen. Im Gründungsteam des Vereins sind fünf Natio­nalitäten vertreten. Mitglieder sind sowohl professionelle KünstlerInnen\, als auch AmateurInnen\, die durch die KARAWANSEREI Potsdam zum Verein gefunden haben. Außer interkulturellen Projekten sind auch Projekte zur Erinnerungskultur sowie internationale Begegnungen geplant.\nMehr Infos: https://escala-culture.org/ \nTickets: 10\,- / erm. 5\,- \nTicket-Link folgen oder QR-Code scannen\nhttps://www.eventbrite.com/e/jerusalemal-quds-einer-vertrackten-situation-auf-der-spur-theater-tickets-1975852543145 \n \n 
URL:https://www.kult-raum.de/event/jerusalem-alquds-einer-vertrackten-situation-auf-der-spur/
CATEGORIES:Allgemein,Schauspiel
ATTACH;FMTTYPE=image/png:https://www.kult-raum.de/wp-content/uploads/2025/12/Titelbild-Website-1.png
END:VEVENT
BEGIN:VEVENT
DTSTART;TZID=Europe/Berlin:20260123T200000
DTEND;TZID=Europe/Berlin:20260123T220000
DTSTAMP:20260422T165620
CREATED:20250926T122619Z
LAST-MODIFIED:20250926T122820Z
UID:3978-1769198400-1769205600@www.kult-raum.de
SUMMARY:Plückhahn & Vogel — Grob verfeinert
DESCRIPTION:Frisch aus der selbstgeheizten Garküche von Plückhahn & Vogel startete im September 2024 das neueste Bühnenprogramm des Berliner Musiksatire-Duos. Wie man es von Sänger Dietrich Plückhahn und Pianist Daniel Vogel nicht anders kennt\, sind alle Songs selbsterklärend\, virenfrei und reich an wertvollen Ballaststoffen. Und natürlich ist ihr neuer Energiemix so bissig wie hintergründig und nimmt individuelle und kollektive Schräglagen aller Art lustvoll ins Visier. Vom Trend zur Selbstoptimierung über die sich immer schneller drehende Innovationsspirale\, über Weltraumabenteuer und Regulierungswahnsinn spannt sich der Bogen bis hin zur Frage\, ob Deutschland mit einer glamourösen Monarchie nicht vielleicht doch besser bedient wäre. \nSeit über 20 Jahren verbinden Plückhahn & Vogel starke Texte mit starker Musik und auch ihr aktuelles Programm ist ein echtes Highlight für alle Freunde der anspruchsvollen Kleinkunst. \nHörproben gefällig? Dann klicken Sie hier oder hier.
URL:https://www.kult-raum.de/event/plueckhahn-vogel-grob-verfeinert/
LOCATION:KultRaum\, Zehlendorfer Damm 200\, Kleinmachnow\, 14532
CATEGORIES:Allgemein,Konzert
ATTACH;FMTTYPE=image/jpeg:https://www.kult-raum.de/wp-content/uploads/2025/09/PlueckhahnVogel3.jpg
END:VEVENT
BEGIN:VEVENT
DTSTART;TZID=Europe/Berlin:20260127T200000
DTEND;TZID=Europe/Berlin:20260127T200000
DTSTAMP:20260422T165620
CREATED:20250724T170341Z
LAST-MODIFIED:20251221T214142Z
UID:3963-1769544000-1769544000@www.kult-raum.de
SUMMARY:BLAUER ABEND — Mallet Affaire
DESCRIPTION:Das Duo «Mallet Affaire» bestehend aus David Soyza (Vibraphon\, Marimba) und Julius Apriadi (Vibraphon\, Marimba) entstand 2021 in der Jazzszene Berlins. Die große Liebe für Rhythmus und Harmonie lässt sich perfekt auf diese Instrumente übertragen und in Musik verwandeln. In den letzten Jahren vertieften die Musiker ihre Zusammenarbeit und erforschten die stilistischen Möglichkeiten dieser ganz besonderen Instrumentenkonstellation. \nSo entstand das umfangreiche Programm dieses Ensembles. Ein Beatles Song — Freie Improvisation — ein alter Jazz Klassiker — zeitgenössische Eigenkompositionen. Das Publikum wird in eine musikalische Welt geführt\, die keinem Genre zuzuordnen ist. Im Fokus steht ECHTHEIT. Diese kann schön und aufwühlend\, froh und traurig sein. Die beiden virtuosen Musiker verbindet die Freude am Erforschen und die Leidenschaft\, mit Menschen in Beziehung zu treten. «Mallet Affaire» steht für grenzenlosen Austausch. \nECHT — MITREISSEND — EINZIGARTIG \n  \nIn Kooperation mit der Kreismusikschule Potsdam-Mittelmark.\nEintritt für Lehrende und SchülerInnen der Kreismusikschule: 5 Euro.
URL:https://www.kult-raum.de/event/blauer-abend-mallet-affaire/
LOCATION:KultRaum\, Zehlendorfer Damm 200\, Kleinmachnow\, 14532
CATEGORIES:Allgemein,Jazz
ATTACH;FMTTYPE=image/jpeg:https://www.kult-raum.de/wp-content/uploads/2025/07/MalletAffaire1.jpg
END:VEVENT
END:VCALENDAR