BEGIN:VCALENDAR
VERSION:2.0
PRODID:-//KultRaum. - ECPv6.15.12.2//NONSGML v1.0//EN
CALSCALE:GREGORIAN
METHOD:PUBLISH
X-ORIGINAL-URL:https://www.kult-raum.de
X-WR-CALDESC:Veranstaltungen für KultRaum.
REFRESH-INTERVAL;VALUE=DURATION:PT1H
X-Robots-Tag:noindex
X-PUBLISHED-TTL:PT1H
BEGIN:VTIMEZONE
TZID:Europe/Berlin
BEGIN:DAYLIGHT
TZOFFSETFROM:+0100
TZOFFSETTO:+0200
TZNAME:CEST
DTSTART:20240331T010000
END:DAYLIGHT
BEGIN:STANDARD
TZOFFSETFROM:+0200
TZOFFSETTO:+0100
TZNAME:CET
DTSTART:20241027T010000
END:STANDARD
BEGIN:DAYLIGHT
TZOFFSETFROM:+0100
TZOFFSETTO:+0200
TZNAME:CEST
DTSTART:20250330T010000
END:DAYLIGHT
BEGIN:STANDARD
TZOFFSETFROM:+0200
TZOFFSETTO:+0100
TZNAME:CET
DTSTART:20251026T010000
END:STANDARD
BEGIN:DAYLIGHT
TZOFFSETFROM:+0100
TZOFFSETTO:+0200
TZNAME:CEST
DTSTART:20260329T010000
END:DAYLIGHT
BEGIN:STANDARD
TZOFFSETFROM:+0200
TZOFFSETTO:+0100
TZNAME:CET
DTSTART:20261025T010000
END:STANDARD
END:VTIMEZONE
BEGIN:VEVENT
DTSTART;TZID=Europe/Berlin:20250913T200000
DTEND;TZID=Europe/Berlin:20250913T200000
DTSTAMP:20260424T174151
CREATED:20250724T163937Z
LAST-MODIFIED:20250724T170435Z
UID:3958-1757793600-1757793600@www.kult-raum.de
SUMMARY:Text trifft Ton - PoetrySlam mit Musik als ganz neues Format
DESCRIPTION:Mit den MusikerInnen \nMichael Krebs\, Oktober und Crossing Strings\n\nsowie den DichterInnen \nPhilipp Herold\, Dominique Macri und Ken Yamamoto\nstarten wir ein ganz neues Format: Text trifft Ton. Wir wollen wissen\, wie es wird\, wenn die Gedichte und Geschichten unserer Poetry-SlamerInnen mit Musik hinter- und unterlegt werden. Die sieben KünstlerInnen bereiten sich gemeinsam auf den Abend vor. Uns erwartet also eine Premiere ganz eigener Art. Es wird eine Uraufführung ohne weitere Aufführungen werden. Freuen Sie sich auf textliche und musikalische Überraschungen. \nWir freuen uns\, dass die Gemeinde Kleinmachnow\, der Landkreis Potsdam-Mittelmark und unser Partner EMB das Projekt besonders unterstützen. \n  \n  \n  \n  \nDie Fotos sind übrigens von Lukas Bezila\, Marvin Ruppert\, Sven Hagolani\, Oktober\, Ken Yamamoto und Dominique Macri. \n 
URL:https://www.kult-raum.de/event/text-trifft-ton-poetryslam-mit-musik-als-ganz-neues-format/
LOCATION:KultRaum\, Zehlendorfer Damm 200\, Kleinmachnow\, 14532
CATEGORIES:Allgemein
ATTACH;FMTTYPE=image/jpeg:https://www.kult-raum.de/wp-content/uploads/2025/07/TexttrifftTon1.jpg
END:VEVENT
END:VCALENDAR