BEGIN:VCALENDAR
VERSION:2.0
PRODID:-//KultRaum. - ECPv6.15.12.2//NONSGML v1.0//EN
CALSCALE:GREGORIAN
METHOD:PUBLISH
X-WR-CALNAME:KultRaum.
X-ORIGINAL-URL:https://www.kult-raum.de
X-WR-CALDESC:Veranstaltungen für KultRaum.
REFRESH-INTERVAL;VALUE=DURATION:PT1H
X-Robots-Tag:noindex
X-PUBLISHED-TTL:PT1H
BEGIN:VTIMEZONE
TZID:Europe/Berlin
BEGIN:DAYLIGHT
TZOFFSETFROM:+0100
TZOFFSETTO:+0200
TZNAME:CEST
DTSTART:20250330T010000
END:DAYLIGHT
BEGIN:STANDARD
TZOFFSETFROM:+0200
TZOFFSETTO:+0100
TZNAME:CET
DTSTART:20251026T010000
END:STANDARD
BEGIN:DAYLIGHT
TZOFFSETFROM:+0100
TZOFFSETTO:+0200
TZNAME:CEST
DTSTART:20260329T010000
END:DAYLIGHT
BEGIN:STANDARD
TZOFFSETFROM:+0200
TZOFFSETTO:+0100
TZNAME:CET
DTSTART:20261025T010000
END:STANDARD
BEGIN:DAYLIGHT
TZOFFSETFROM:+0100
TZOFFSETTO:+0200
TZNAME:CEST
DTSTART:20270328T010000
END:DAYLIGHT
BEGIN:STANDARD
TZOFFSETFROM:+0200
TZOFFSETTO:+0100
TZNAME:CET
DTSTART:20271031T010000
END:STANDARD
END:VTIMEZONE
BEGIN:VEVENT
DTSTART;TZID=Europe/Berlin:20260424T200000
DTEND;TZID=Europe/Berlin:20260424T200000
DTSTAMP:20260422T110119
CREATED:20251221T210441Z
LAST-MODIFIED:20251221T210524Z
UID:4045-1777060800-1777060800@www.kult-raum.de
SUMMARY:Philipp Scharrenberg — Verwirren ist menschlich
DESCRIPTION:Philipp Scharrenberg verbindet pointiertes Kabarett mit zärtlichen Mindfucks. ‚Mindfuck’ heißt Verwirrung mit Methode. Und die Verwirrung ist da. Sie geistert durch die sozial schwachen Medien und liegt im grüngewaschenen Supermarktregal; wo früher Zeitungsenten schwammen\, quaken heute alternative Wahrheiten. Wie soll man da noch zwischen Fikt und Faktion unterscheiden? Im Desinformationszeitalter brauchen wir niemanden mehr\,\num uns zu verwhatsappeln – wir tun es selbst. Hauptsache\, Netz. \nZeit\, uns aus der Irre zu führen! Philipp Scharrenberg hält nichts von künstlicher Intelligenz – lieber macht er intelligente Kunst. Zum Mitdenken. Denn er ist einer\, der genau hinschaut. Ein Am-Schorf-Knibbler\, Auf-den-Zahn-Fühler\, irgendwo zwischen Kindskopf und Aufklärer\, der immer wieder nachfragt: „Waru-hum?“ Als Zwangsneurotiker weiß er\, wie die Gesellschaft tic(k)t und welche Knöpfe er drücken muss\, um sie zappeln zu lassen. Mit viel Witz und Herz und vollem Körpereinsatz erforscht er ihre seelischen Ab- und Beweggründe\, um Klarheit zu stiften\, wo Wirrnis im Hirn is’. \nAuch in seinem fünften Programm steht ihm dabei seine große Liebe zur Seite: die Sprache. Reimend\, dichtend\, mit Songs\, Hörspielen und Stand-Up zeigt er auf\, wie schwierig es ist\, sich der eigenen Meinung heute noch sicher zu sein. Kein Die-da-oben-\, sondern Wir-hier-unten-Kabarett\, ausgezeichnet mit dem Deutschen Kabarettpreis 2023. Ein ‚Mindfuck’ eben – aber zärtlich. \n  \nErste Einblicke gewünscht? Einfach hier klicken.
URL:https://www.kult-raum.de/event/philipp-scharrenberg-verwirren-ist-menschlich/
LOCATION:KultRaum\, Zehlendorfer Damm 200\, Kleinmachnow\, 14532
CATEGORIES:Allgemein,Kabarett
ATTACH;FMTTYPE=image/jpeg:https://www.kult-raum.de/wp-content/uploads/2025/12/PhilippScharri2.jpg
END:VEVENT
BEGIN:VEVENT
DTSTART;TZID=Europe/Berlin:20260508T200000
DTEND;TZID=Europe/Berlin:20260508T200000
DTSTAMP:20260422T110119
CREATED:20260123T150813Z
LAST-MODIFIED:20260123T150920Z
UID:4090-1778270400-1778270400@www.kult-raum.de
SUMMARY:Karina Syndicus und Michael Krebs — Schmuckeremiten
DESCRIPTION:Karina Syndicus und Michael Krebs – zwei Bühnen-Alphas\, beide virtuos\, wuchtig und extrem witzig. Beide gewohnt\, die Bühne alleine zu füllen. Die eine spielt Körper und der andere Klavier. Jetzt machen sie ein gemeinsames Programm. \nSyndicus und Krebs sind eine gewagte Kombination. Und so stellt ihr erstes Duoprogramm eine der großen Fragen unserer Zeit: Wie bringt man zusammen\, was unvereinbar scheint? Geht das überhaupt noch\, in unseren Leben zwischen Turbokapitalismus und Filterblasen\, in der wir alle nahezu identisch konsumieren und kommunizieren\, trotzdem kaum noch Gemeinsamkeiten finden? \nWie gut das geht und wie lustig das sein kann\, erfährt man an diesem Abend. Und genau deshalb braucht es dieses Programm dringend. \nKarina Syndicus und Michael Krebs werden in diesem Programm zur Hochdruck-Supernova und suhlen sich in der heiteren Großwetterlage der ihnen täglich begegnenden Absurditäten. Eltern\, die emotional überfordert sind\, wenn ihr Kind ohne Airtag auf den Spielplatz möchte. Politiker\, die Demokratie als Lieferservice preisen\, obwohl sie das größte DIY-Projekt aller Zeiten ist. Ute\, die im ICE ab Osnabrück schon mal im Flur steht\, weil sie in Hannover aussteigen will. Noni\, die gegen die afd notfalls auch aus dem Untergrund kämpfen will\, falls es da WLAN gibt. Die Sehnsucht nach dem guten Diktator. Der schlechten Pointe. Dem mittelmäßigen Leben. \nEin Abend voll Körper\, Musik\, Wort\, kluger Pointen und überraschender Lösungen. Denn die einzige Option ist die Eskalation.
URL:https://www.kult-raum.de/event/karina-syndicus-und-michael-krebs-schmuckeremiten/
LOCATION:KultRaum\, Zehlendorfer Damm 200\, Kleinmachnow\, 14532
CATEGORIES:Allgemein,Kabarett
ATTACH;FMTTYPE=image/jpeg:https://www.kult-raum.de/wp-content/uploads/2026/01/Schmuckeremiten1.jpg
END:VEVENT
BEGIN:VEVENT
DTSTART;TZID=Europe/Berlin:20260522T200000
DTEND;TZID=Europe/Berlin:20260522T200000
DTSTAMP:20260422T110119
CREATED:20260407T165158Z
LAST-MODIFIED:20260407T165314Z
UID:4100-1779480000-1779480000@www.kult-raum.de
SUMMARY:Alec & Ro Gebhardt — Wenn der Vater mit dem Sohne — feat. Denis Stilke
DESCRIPTION:Denis Silke / drums\nAlec Gebhardt / bass\nRo Gebhardt / git\, arr\, comp\n\n„…..outstanding ….“\n\nDer Vollblut-Gitarrist-Komponist-Arrangeur Ro Gebhardt steht für Guitar-Jazz-Latin-Blues und gilt als eine der deutschen Galionsfiguren seiner Zunft. \n \nRo Gebhardt hat mit seiner aktuellen CD die Preise „bester R’n’B/Soul-Song und „bester Jazz-Rock-Song“ der Deutschen Pop-Stiftung gewonnen und hat die Songs selbstverständlich im Gepäck. Für sein Buch „Jazz-Alphabet“ hat er den „Deutschen Musikeditionspreis“ erhalten. Station seiner Tourneen weltweit war unter anderem der legendäre Jazzclub „Blue Note“ in New York. \n\nZusammen mit seinem Sohn\, dem Nachwuchs-Bassisten Alec Gebhardt\, bildet Ro ein kongeniales Duo. Als bisher jüngster Träger des Kulturpreis des Kulturverein Neunkirchen 2022 und Student der saarländischen Hochschule für Musik hat der gerade erst 18-Jährige schon mit diversen Grössen der Szene gespielt wie z.B. Christian Pabst\, Jeff Herr\, Jan von Klewitz\, Wolfgang Roggenkamp\, Gregor Hilden\, Johannes Müller und vielen anderen mehr.\n\nDer dritte im Bunde wird an diesem Abend Denis Silke sein. Er ist seit über 30 Jahren eine Koryphäe in der Berliner Jazzwelt. Er studierte in Berlin und am renommierten Berkley College of Music in Boston\, USA. Besonders geschätzt wird seine musikalische Vielseitigkeit\, die auf über 30 Produktionen sehr unterschiedlicher Stilistik festgehalten ist\, darunter Jazz\, Metal\, Pop\, Weltmusik und mehr. Neben seiner Tätigkeit als Musiker ist er auch Komponist\, Lehrer und Autor von Musikliteratur.\n\nDie Gebhardts feat. Stilke nehmen dabei Musikliteratur aus Jazz\, Pop\, Blues\, Latin und Klassik aus verschiedenen Jahrhunderten unter die Lupe und begeistern dabei mit ganz viel Spielfreude und atemberaubendem\, improvisatorischen Können. Natürlich dürfen auch ein paar Songs aus eigener Feder von beim SR\, BR und Deutschlandfunk produzierten CDs nicht fehlen. \n\n\nDie Presse kennt auf jeden Fall nur Superlative:\n„traumhaft virtuos“ Gitarre&Bass\, „Meister ihres Fachs“ Jazzpodium\, „in der 1. Liga europäischer Jazzgitarren-Tradition“ Jazzthing „Ausnahmemusiker in hinreißendem Dialog“ Frankfurter Allgemeine\,  „Ausufernde Spielfreude und grossartige Dynamik“ SZ\, „erste Liga europäischer Jazz-Musiker“ Keyboards und und und.\n\nZu hören und zu sehen gibt es hier oder hier oder hier das ein oder andere.
URL:https://www.kult-raum.de/event/alec-ro-gebhardt-wenn-der-vater-mit-dem-sohne-feat-denis-stilke/
LOCATION:KultRaum\, Zehlendorfer Damm 200\, Kleinmachnow\, 14532
CATEGORIES:Allgemein,Jazz,Konzert
ATTACH;FMTTYPE=image/jpeg:https://www.kult-raum.de/wp-content/uploads/2026/04/Gebhardt1.jpg
END:VEVENT
BEGIN:VEVENT
DTSTART;TZID=Europe/Berlin:20260605T200000
DTEND;TZID=Europe/Berlin:20260605T200000
DTSTAMP:20260422T110119
CREATED:20260117T200905Z
LAST-MODIFIED:20260407T165655Z
UID:4077-1780689600-1780689600@www.kult-raum.de
SUMMARY:Jazzkollektiv Babelsberg
DESCRIPTION:Das Jazzkollektiv Babelsberg hat sich der Jazzära des Hardbop verschrieben\, der in den 1950er Jahren durch Musiker wie Art Blakey  und seinen Jazz Messengers\, Horace Silver\, Lee Morgan\, Clifford Brown und anderen als eine Weiterentwicklung des BeBop entstand. So werden einige Highlights aus dieser Zeit präsentiert sowie auch Eigenkompositionen.  Zwei Bläser\, ein voller Kontrabass\, elegant leichtes Klavierspiel und ein impulsives Schlagzeugspiel machen das Jazzkollektiv Babelsberg zu einem Erlebnis. Neben dem rhythmischen Drive werden auch Elemente aus dem Soul und dem Blues übernommen. \nChris Martin (Kontrabass und E-Bass) \nbegann sein Bassistenleben in seiner Jugend zunächst autodidaktisch mit Blues/Rock. Die Grundlagen der Jazzbegleitung und der Improvisation hat er in der Mitte der 80ziger Jahre in der Kölner Jazzhausschule 3 Jahre intensiv studiert. In den letzten 20 Jahren hat sich der Kontrabass zunehmend als Hauptinstrument herausgearbeitet. Aktuell ist er neben dem Jazzkollektiv Babelsberg noch in unterschiedlichen Jazz\, Latin und Funk Projekten insbesondere in Berlin unterwegs. \nJürgen Schötz (Schlagzeug) \nstudierte Schlagwerk am Konservatorium „Johann Sebastian Bach“ in Leipzig. \nSeit 1984 ist er Berufsmusiker und in verschiedenen Bands zu hören: Jazzkollektiv Babelsberg\, Herr Horst\, Krähe\, Six; Cäsar & die Spieler; Cäsar-Trio; Klaus Renft Combo; Orchester “Company of music”; Kashmir; East Blues Experience; Alexander Blume Band; Jonathan Blues Band; Zenit; African percussion Bands; Thomas Putensen; Speiches Monokel\, Blues Band\, L’Art de Passage \nSeine musikalischen Schwerpunkte sind Rock\, Pop\, Blues\, Jazz\, Latin. \nRobert Wagner (Klavier) \nstudierte Musik und Geschichte auf Lehramt für Gymnasien an der Universität Potsdam. Während des Studiums intensive Beschäftigung mit schulpraktischem Klavierspiel und Teilnahme am Bundeswettbewerb schulpraktisches Klavierspiel Grotrian-Steinweg in Weimar. Seit 2013 tätig als Instrumentallehrer für Klavier mit Schwerpunkt Jazz und Liedbegleitung in und um Potsdam. Seit 2017 unterrichtet Robert Wagner als Dozent für schulpraktisches Musizieren und Musiktheorie an der Universität Potsdam. Er tourt mit der Event-Jazzband Blue Charles deutschlandweit. \nHarry Petersen\, Saxophone \nwuchs in Denver auf und studierte an der University of Minnesota\, wo er Mitbegründer des Jazzensembles der Universität war. Als Profimusiker machte er in Minnesota Erfahrungen in Rock-\, Show- und Jazzbands wie der Orchestra Hall Big Band\, dem Wolverines Classic Jazz Orchestra und dem Carlton Show Room Orchestra. Zwischen 1979 und 2011 gehörte er als Lead-Altist zur hr-Bigband in Frankfurt am Main\, mit der er an zahlreichen Produktionen und Alben beteiligt war. 1986 gehörte er zu den Gründern der Frankfurt Jazz Big Band\, die er zunächst leitete und mit der er mehrere Alben einspielte. Als Solist ist er auch auf Schallplatten vom Orchester Roland Schneider zu hören. In der Frankfurt-Köln-Connection trat er auch mit Melanie Bong auf. \nStephan Blank\, Trompete/Flügelhorn \nTrompete seit dem 8. Lebensjahr\, Unterricht bei diversen Privatlehrern\, Mitwirkung in verschiedenen Big Bands wie Big Band Dorsten\, Big Band am Robert Schumann-Konservatorium Zwickau\, Flintstones Berlin\, sowie in weiteren musikalischen Projekten. Ausbildung in den theoretischen Grundlagen des Jazz in der Jazzschule Berlin. Aktuell aktiv im Luna Jazz Quartett Kleinmachnow\, im Jazzkollektiv Babelsberg sowie in der Party- und Funkband EYESONFUNK Berlin. \n  \nProbehören und -schauen gefällig? Hier ist ein passender Link.
URL:https://www.kult-raum.de/event/jazzkollektiv-babelsberg/
LOCATION:OpenAir – KultRaum\, Zehlendorfer Damm 200\, Kleinmachnow\, 14532
CATEGORIES:Allgemein,Jazz,Konzert
ATTACH;FMTTYPE=image/jpeg:https://www.kult-raum.de/wp-content/uploads/2026/01/Jazzkollektiv2.jpg
END:VEVENT
BEGIN:VEVENT
DTSTART;TZID=Europe/Berlin:20260703T200000
DTEND;TZID=Europe/Berlin:20260703T200000
DTSTAMP:20260422T110119
CREATED:20260407T171024Z
LAST-MODIFIED:20260407T171341Z
UID:4104-1783108800-1783108800@www.kult-raum.de
SUMMARY:Stefanie Boltz — Midsummer Poem
DESCRIPTION:„MIDSUMMER POEM“ ist eine musikalische Huldigung der möglicherweise kraftvollsten Zeit im Jahr\, dem Mittsommer. Wenn der Tag nicht zu enden scheint\, der Vitamin D-Wert gesättigt ist und die Natur uns im Überfluss beschenkt mit Bildern\, Farben\, Gerüchen und nährenden Sinneserfahrungen. Stefanie Boltz ist tief eingetaucht in den Mittsommer\, um ihn in seinen verschiedenen Gesichtern mit uns zu zelebrieren. \n„Everybody loves the sunshine“ groovt Roy Ayers\, der “Watermelon Man“ von Herbie Hancock steht hoch im Kurs\, Mancinis „Slow Hot Wind“\, „Summer Breeze“ und „Heat Wave“ nehmen uns mit in einen körperlich-emotionalen Ausnahmezustand; Es ist Mittsommer. Zudem schenkt uns diese Zeit die Erlaubnis\, aus reinem Luxus heraus\, die Zeit ‚zu verschwenden‘\, wie Otis Redding es uns vorlebt in „Sitting on the Dock of a Bay (wasting the time away)“. Diese exponierte Zeit im Jahr kann aber auch mit „Summertime Sadness“ oder „Midsummer Melancholy“ aufwarten. Wenn man den Superlativen im Außen nicht standhalten kann\, die Schwüle einen erdrückt. Dann kann einsetzender „Summer Rain“ erlösend sein. \nFür „Midsummer Poem“ arbeitet die Münchener Künstlerin Stefanie Boltz mit dem serbischen Cellisten Nenad Uskokovic. Mit Stimme\, dem behutsamen Einsatz von Effekten & Loops\, Cello\, Electronics und E-Bass zaubern die beiden orchestrale Momente und fragile Klangteppiche\, auf denen man dahin schweben möchte. \n„Midsummer Poem“ ist achtsam aufgearbeitete Sommer-Musik – über die Natur\, die Liebe und über den Reigen von Sonne\, Mond und Sternen. Wir sehen uns beim gleichwarmen\, wohligen Treiben zu und möchten\, dass sie niemals endet\, diese königliche Zeit. Ein Versprechen\, das mindestens einen ganzen Abend hält. \nReinhören können Sie beispielsweise hier oder hier.
URL:https://www.kult-raum.de/event/stefanie-boltz-midsummer-poem/
LOCATION:OpenAir – KultRaum\, Zehlendorfer Damm 200\, Kleinmachnow\, 14532
CATEGORIES:Allgemein,Chanson,Jazz,Konzert
ATTACH;FMTTYPE=image/jpeg:https://www.kult-raum.de/wp-content/uploads/2026/04/Boltz1.jpg
END:VEVENT
BEGIN:VEVENT
DTSTART;TZID=Europe/Berlin:20260828T200000
DTEND;TZID=Europe/Berlin:20260828T200000
DTSTAMP:20260422T110119
CREATED:20260407T173650Z
LAST-MODIFIED:20260407T173711Z
UID:4111-1787947200-1787947200@www.kult-raum.de
SUMMARY:Matti Klein Soul Trio
DESCRIPTION:Matti Klein – wurlitzer\, rhodes bass\nLars Dieterich – bass clarinet\, sax\nAndré Seidel – drums \nWas ist Soul? Ein mitreißender Musikstil\, sagen die einen. Ein überwältigendes Gefühl\, behaupten die anderen. Es ist das\, was uns unverwechselbar macht\, steht in den englischen Wörterbüchern. Jede dieser Definitionen trifft auf das Matti Klein Soul Trio zu\, aber letztere umschreibt das Wesen des im Jahr 2017 gegründeten Dreiergespanns\, welches seit dem weltweit schon weit über 300 Konzerte spielte\, besonders gut. Denn im Matti Klein Soul Trio haben sich drei Seelenverwandte im Namen des Grooves zusammengetan\, die einen eigenständigen Weg jenseits der viel betanzten Pfade der Hammond-Orgel-Trios beschreiten. Im Zentrum des Klanggeschehens stehen dabei die warmen Wurlitzer-Klänge des Bandleaders Matti Klein\, der mit der Funkjazz-Formation Mo‘ Blow und dem brasilianischen Yacht-Pop-Schwergewicht Ed Motta bereits die wichtigsten Jazzclubs in New York\, Tokyo\, London und Paris beehrte. \nDie wohligen tiefen Töne eines 1973er Fender Rhodes Piano-Bass sind ein ähnliches Alleinstellungsmerkmal der Gruppe wie der punktgenaue Einsatz von Sound-Effects des Tenorsaxofonisten und Bassklarinettisten Lars Dieterich. Das elastische Spiel von Drummer André Seidel sorgt dafür\, dass man dem Trio seine weitere Spezialität\, die unverkopfte Vorliebe für Odd Meters\, buchstäblich nicht krumm nimmt. All diese Qualitäten bestimmen auch „Soul Trio: Bouncin‘ In Bubbleverse“\, das inzwischen dritte Album des Dreiergespanns. Auf der Einspielung verarbeiten Klein & Co. ihre reichhaltigen Tournee-Erfahrungen mit catchy Melodien und lange nachklingenden Gesellschaftsreflexionen. \nProminente Soul-Gourmets wie die BBC-Radiolegende Robert Elms oder Sänger Max Mutzke schwören auf die Songs des Trios\, in denen vibrierender Soul-Jazz und der Instrumental-Funk von The Meters oder The Crusaders organisch neben HipHop-Elementen oder spacigem Post-Rock stehen. Und auch die mediale Resonanz auf die bisherigen Einspielungen und Live-Shows der Band (u.a. in Haiti\, Südafrika\, Malaysia\, Finnland oder bei einer UK-Tour) spricht eine klare Sprache. „Das groovt ungemein“\, urteilt der Deutschlandfunk\, während das britische Jazzwise-Magazin feststellt: „A new\, smoking‘ hot twist on the much-loved organ trio format. They deserve to be huge everywhere!“
URL:https://www.kult-raum.de/event/matti-klein-soul-trio/
LOCATION:OpenAir – KultRaum\, Zehlendorfer Damm 200\, Kleinmachnow\, 14532
CATEGORIES:Allgemein,Jazz,Konzert
ATTACH;FMTTYPE=image/jpeg:https://www.kult-raum.de/wp-content/uploads/2026/04/MattiKlein1.jpg
END:VEVENT
BEGIN:VEVENT
DTSTART;TZID=Europe/Berlin:20261009T200000
DTEND;TZID=Europe/Berlin:20261009T200000
DTSTAMP:20260422T110119
CREATED:20260407T172540Z
LAST-MODIFIED:20260407T172616Z
UID:4107-1791576000-1791576000@www.kult-raum.de
SUMMARY:Chris Gall — „Impressionists Improvised“. Neue Klangfarben zu 150 Jahre Impressionismus
DESCRIPTION:Der Pianist Chris Gall – er stand bei uns mit Quadro Nuevo auf der Bühne – verbindet in seinem neuen Solo-Programm die faszinierenden Klangwelten des Impressionismus mit der Freiheit und Energie des Jazz. \nIn seinen hochenergetischen und zauberhaften Improvisationen über Werke von Komponisten wie Claude Debussy\, Maurice Ravel und Erik Satie lotet er die farblichen und harmonischen Gemeinsamkeiten beider Genres aus und bringt sie auf einzigartige Weise zum Klingen. \n150 Jahre nachdem sich in Paris eine kleine Gruppe alternativer Künstler erstmals als Impressionisten bezeichnet\, lässt Gall diese Bewegung neu und modern aufleben – und überwindet dabei mühelos die Stilgrenzen von Jazz\, Neo-Klassik und Minimal Music. Mit seinem aktuellen Album „Impressionists Improvised“ vertieft Gall den Weg\, den er bereits auf seinen Soloalben „Piano Solo“ und „Room of Silence“ eingeschlagen hat. \nBekannt für seine Arbeit mit der Band Quadro Nuevo\, mit der er weltweit tourt und mehrfach den German Jazz Award erhielt\, zeigt der Münchner Pianist auch solo seine beeindruckende Vielseitigkeit und entführt das Publikum in eine zauberhafte Klangwelt\, in der die intensiven Stimmungen des Impressionismus auf neuartige Weise zum Leben erweckt werden. \nEin Konzert\, das die Zuhörer mit einer Fülle an neuen Eindrücken und magischen Klangmomenten verzaubern wird. \n„Ein deutscher Brad Mehldau. (…) ein Musterbeispiel für den aktuellen Trend unter den besten Jazzern\, eine von Stilen und Genres befreite universale Musik zu erschaffen“\, schreibt die Süddeutsche Zeitung. \nHier oder hier können Sie reinhören.
URL:https://www.kult-raum.de/event/chris-gall-impressionists-improvised-neue-klangfarben-zu-150-jahre-impressionismus/
LOCATION:KultRaum\, Zehlendorfer Damm 200\, Kleinmachnow\, 14532
CATEGORIES:Allgemein,Jazz,Klassik,Konzert
ATTACH;FMTTYPE=image/jpeg:https://www.kult-raum.de/wp-content/uploads/2026/04/Gall3.jpg
END:VEVENT
BEGIN:VEVENT
DTSTART;TZID=Europe/Berlin:20261204T200000
DTEND;TZID=Europe/Berlin:20261204T200000
DTSTAMP:20260422T110119
CREATED:20260117T211435Z
LAST-MODIFIED:20260408T082845Z
UID:4085-1796414400-1796414400@www.kult-raum.de
SUMMARY:Inka Meyer — Highway to Health
DESCRIPTION:Wie heißt es so schön? Lieber 30 Minuten erben als 30 Jahre arbeiten. Auch Inka Meyer hat von ihrer Großmutter so einiges geerbt: Neben funkelnden Augen und sprühendem Witz leider auch ein Immunsystem\, das im Kampf gegen Krankheiten eher Pazifist ist. Schon ihr halbes Leben düst die Kabarettistin kometengleich durch das Sonnen- und Gesundheitssystem: Per Anhalter durch die Praxis. \nSo ist das: Unser Schicksal steckt oft in unseren Genen. Wenn Sie keine Kinder haben\, werden Ihre Kinder auch keine Kinder haben. Was soll man machen? Das Leben entspringt einer Zelle und endet manchmal auch in einer. Kann man dem eigenen Stammbaum überhaupt entkommen? Ja! „Denn wer nicht an Wunder glaubt\, ist kein Realist“\, lautet Meyers entschlossenes Credo! \nUnd so begibt sich die mit Nordseewasser getaufte Meerschaumgeborene auf eine abenteuerliche Expedition nach den Wurzeln ihrer Familie\, die neben Friesland eine aufregende Bandbreite an Migrationsgeschichten aufweist. Mit dem Udo-Jürgens-Schlager „Ich war noch niemals in Stettin“ auf den Lippen reist sie wissbegierig zum ersten Mal in ihrem Leben nach Polen – genauer ins ehemals deutsche Pommerland. Im kleinen Ort Jasenitz beginnt eine kontrollverlustige Suche nach dem Haus ihrer Urgroßeltern\, bei der eine Übersetzungs-App im Dialog unabdingbar wird: So ist Inka Meyer für die Dorfbewohner eine Attraktion – und die Einheimischen für Inka Meyer. \nWas genau sie am Ende ihrer Reise durch das ehemalige Pommern findet\, wird natürlich nicht vorab verraten. Nur so viel: Ihre Kabarettshow gleicht einem chirurgischen Eingriff\, einer „Inkavention“\, die das körperliche und seelische Wohlbefinden aller Zuschauenden verbessern wird. Denn wer gesund sein will\, muss lachen! Und an erster Stelle ihrer humoristischen Reiseapotheke steht: „Wenn ihr selbst nichts zu lachen habt\, dann lacht über mich!“ Aber Vorsicht: Diese Person ist hochansteckend! Also: Maikäfer flieg – aber bitte ins Kabarett! \n  \n  \nTrailer gefällig? Dann klicken Sie bitte hier. Und weiteres von Inka Meyer gibt es hier.
URL:https://www.kult-raum.de/event/inka-meyer-highway-to-health/
LOCATION:KultRaum\, Zehlendorfer Damm 200\, Kleinmachnow\, 14532
ATTACH;FMTTYPE=image/jpeg:https://www.kult-raum.de/wp-content/uploads/2026/01/InkaMeyer3.jpg
END:VEVENT
BEGIN:VEVENT
DTSTART;TZID=Europe/Berlin:20261211T200000
DTEND;TZID=Europe/Berlin:20261211T200000
DTSTAMP:20260422T110119
CREATED:20260117T205000Z
LAST-MODIFIED:20260412T150715Z
UID:4080-1797019200-1797019200@www.kult-raum.de
SUMMARY:Cathrin Pfeifers TREZOULÉ
DESCRIPTION:Es erwartet Sie ein Crossover von mediterranen\, latin und afro sounds zwischen Weltmusik\, Jazz\, Flamenco\, Tango und Zirkusmusik. \nDas Cathrin Pfeifer Trio TREZOULÉ entführt sein Publikum auf eine akustische Weltreise\, die geprägt ist von intensiver Spielfreude\, musikalischer Offenheit und komplexen Eigenkompositionen. Das Akkordeon steht dabei nicht für Nostalgie\, sondern für klangliche Grenzüberschreitung – mal explosiv\, mal zart\, aber immer ausdrucksstark. Inspirationen reichen von lateinamerikanischen und afrikanischen\nRhythmen über Blueswalzer bis hin zu jazzigem Tango noir. Fans von Tom Waits\, Astor Piazzolla\noder globaler Fusionmusik werden hier aufhorchen. Mit Western-Slidegitarre\, programmatischen Grooves und akkordeongetriebenen Melodien entsteht eine Musik\, die nicht einordnet\, sondern verbindet – zwischen Clubatmosphäre\, Konzertsaal und cinematischer Imagination. \nZitat Jazzthing: „Die umtriebige Akkordeonistin hat scheinbar die ganze Welt in ihren Tasten…“ \nAls profilierte Musikerin mit Stationen u.a. bei Keimzeit\, Steve Lacy und Etta Scollo\, mehrfach nominiert für den Deutschen Schallplattenpreis\, zählt Cathrin Pfeifer heute zu den wichtigsten Akkordeonistinnen in Europas Ethno-\, Jazz- und Weltmusikszene. Ihre Kompositionen wurden u.a. in Kinofilmen wie „Nachtgestalten“ (Regie: Andreas Dresen) eingesetzt. Ihr Sound ist unkonventionell\, eigenständig – und gerade dadurch extrem anziehend für Menschen\, die das Grenzgängige\, Persönliche und Groovige suchen. \nCathrin Pfeifer – accordeon\, Takashi Peterson – guitar\, Andi Bühler – drums \n  \nHör- und Guckprobe gefällig? Hier und hier. Bitteschön.
URL:https://www.kult-raum.de/event/cathrin-pfeifers-trezoule/
LOCATION:KultRaum\, Zehlendorfer Damm 200\, Kleinmachnow\, 14532
ATTACH;FMTTYPE=image/jpeg:https://www.kult-raum.de/wp-content/uploads/2026/01/Trezoule1.jpg
END:VEVENT
END:VCALENDAR